BEGIN:VCALENDAR
VERSION:2.0
PRODID: -//Q4 Inc.//EN
METHOD:PUBLISH
BEGIN:VTIMEZONE
TZID:America/New_York
X-LIC-LOCATION:America/New_York
BEGIN:DAYLIGHT
TZOFFSETFROM:-0500
TZOFFSETTO:-0400
TZNAME:EDT
DTSTART:19700308T020000
RRULE:FREQ=YEARLY;BYMONTH=3;BYDAY=2SU
END:DAYLIGHT
BEGIN:STANDARD
TZOFFSETFROM:-0400
TZOFFSETTO:-0500
TZNAME:EST
DTSTART:19701101T020000
RRULE:FREQ=YEARLY;BYMONTH=11;BYDAY=1SU
END:STANDARD
END:VTIMEZONE
BEGIN:VEVENT
ORGANIZER:MAILTO:ir@csdisco.com
DTSTART;TZID="America/New_York":20251105T170000
DTEND;TZID="America/New_York":20251105T180000
LOCATION:
UID:ad3bc71b-b11d-4f2d-b8fa-3b6943a8a643
DTSTAMP:20260420T103143
SUMMARY:DISCO Third Quarter 2025 Earnings Conference Call
DESCRIPTION: View More Information: https://ir.csdisco.com/events-and-presentations/event-details/2025/DISCO-Third-Quarter-2025-Earnings-Conference-Call/default.aspx
URL;VALUE=URI:https://ir.csdisco.com/events-and-presentations/event-details/2025/DISCO-Third-Quarter-2025-Earnings-Conference-Call/default.aspx
PRIORITY:5
CLASS:PUBLIC
END:VEVENT
END:VCALENDAR
